BEGIN:VCALENDAR
VERSION:2.0
PRODID:-//wp-events-plugin.com//7.2.3.1//EN
TZID:Europe/Paris
X-WR-TIMEZONE:Europe/Paris
BEGIN:VEVENT
UID:19@reperes-astro.fr
DTSTART;TZID=Europe/Paris:20251108T100000
DTEND;TZID=Europe/Paris:20251108T230000
DTSTAMP:20251209T173715Z
URL:https://reperes-astro.fr/events/journee-echange-et-partage/
SUMMARY:Journée Echange et Partage
DESCRIPTION:Journée Echange et Partage (Réservé aux membres de l'Associa
 tion)\n\n\nVous Pouvez :\n\n 	Venir bricoler ou entretenir\n 	Proposer une
  activité\, un atelier\, un bricolage\, une petite conférence\,\n 	Obser
 ver le Soleil s'il y en a\,\n 	Venir vers 17h pour donner un coup de main 
 aux stagiaires\,\n 	Venir en soirée pour observer.\n\nVous pouvez aussi r
 éserver un repas pour le soir.\n\n\n\n
ATTACH;FMTTYPE=image/jpeg:https://reperes-astro.fr/%77%70%2d%63%6f%6e%74%6
 5%6e%74/uploads/2025/03/conf-gilles-sautot-ELT.jpg
CATEGORIES:Journée Echange et Partage
LOCATION:https://maps.app.goo.gl/ZhN7Zx6nxAaASzGL6
END:VEVENT
BEGIN:VTIMEZONE
TZID:Europe/Paris
X-LIC-LOCATION:Europe/Paris
BEGIN:STANDARD
DTSTART:20251026T020000
TZOFFSETFROM:+0200
TZOFFSETTO:+0100
TZNAME:CET
END:STANDARD
END:VTIMEZONE
END:VCALENDAR