BEGIN:VCALENDAR
VERSION:2.0
PRODID:-//wp-events-plugin.com//7.2.3.1//EN
TZID:Europe/Paris
X-WR-TIMEZONE:Europe/Paris
BEGIN:VEVENT
UID:3@reperes-astro.fr
DTSTART;TZID=Europe/Paris:20251108T100000
DTEND;TZID=Europe/Paris:20251108T230000
DTSTAMP:20251209T173710Z
URL:https://reperes-astro.fr/events/stage-3eme-etoile/
SUMMARY:Stage 3ème Etoile
DESCRIPTION:A l'issue de cette formation\, suivant le programme national de
  l'AFA\, vous aurez toutes les bases pour débutez en ASTROPHOTOGRAPHIE
ATTACH;FMTTYPE=image/jpeg:https://reperes-astro.fr/%77%70%2d%63%6f%6e%74%6
 5%6e%74/uploads/2021/12/RICE_N.FAULLE_1100-61a7.jpg
CATEGORIES:Stages
LOCATION:https://maps.app.goo.gl/zEP2H3EQqqDcmhRT7
END:VEVENT
BEGIN:VTIMEZONE
TZID:Europe/Paris
X-LIC-LOCATION:Europe/Paris
BEGIN:STANDARD
DTSTART:20251026T020000
TZOFFSETFROM:+0200
TZOFFSETTO:+0100
TZNAME:CET
END:STANDARD
END:VTIMEZONE
END:VCALENDAR